Package: GenomicInteractions Version: 1.43.0 Command: chmod a+r GenomicInteractions -R && F:\biocbuild\bbs-3.22-bioc\R\bin\R.exe CMD build --keep-empty-dirs --no-resave-data GenomicInteractions StartedAt: 2025-07-14 19:18:25 -0400 (Mon, 14 Jul 2025) EndedAt: 2025-07-14 19:22:44 -0400 (Mon, 14 Jul 2025) EllapsedTime: 258.5 seconds RetCode: 0 Status: OK PackageFile: GenomicInteractions_1.43.0.tar.gz PackageFileSize: 3.283 MiB