Package: GenomicInteractions Version: 1.43.0 Command: rm -rf GenomicInteractions.buildbin-libdir && mkdir GenomicInteractions.buildbin-libdir && F:\biocbuild\bbs-3.22-bioc\R\bin\R.exe CMD INSTALL --build --library=GenomicInteractions.buildbin-libdir GenomicInteractions_1.43.0.tar.gz StartedAt: 2025-07-16 08:58:55 -0400 (Wed, 16 Jul 2025) EndedAt: 2025-07-16 09:03:44 -0400 (Wed, 16 Jul 2025) EllapsedTime: 289.1 seconds RetCode: 0 Status: OK PackageFile: GenomicInteractions_1.43.0.zip PackageFileSize: 3.767 MiB