Package: GenomicInteractions Version: 1.43.0 Command: /Library/Frameworks/R.framework/Resources/bin/R CMD INSTALL GenomicInteractions StartedAt: 2025-07-22 15:25:04 -0400 (Tue, 22 Jul 2025) EndedAt: 2025-07-22 15:25:40 -0400 (Tue, 22 Jul 2025) EllapsedTime: 36.3 seconds RetCode: 0 Status: OK