Package: GenomicInteractions Version: 1.43.0 Command: /Library/Frameworks/R.framework/Resources/bin/R CMD build --keep-empty-dirs --no-resave-data GenomicInteractions StartedAt: 2025-07-22 16:24:33 -0400 (Tue, 22 Jul 2025) EndedAt: 2025-07-22 16:25:40 -0400 (Tue, 22 Jul 2025) EllapsedTime: 66.7 seconds RetCode: 0 Status: OK PackageFile: GenomicInteractions_1.43.0.tar.gz PackageFileSize: 3.507 MiB