Package: GenomicInteractions Version: 1.43.0 Command: rm -rf GenomicInteractions.buildbin-libdir && mkdir GenomicInteractions.buildbin-libdir && /Users/biocbuild/BBS/utils/build-universal.sh GenomicInteractions_1.43.0.tar.gz /Library/Frameworks/R.framework/Resources/bin/R GenomicInteractions.buildbin-libdir StartedAt: 2025-07-22 22:25:46 -0400 (Tue, 22 Jul 2025) EndedAt: 2025-07-22 22:26:26 -0400 (Tue, 22 Jul 2025) EllapsedTime: 39.7 seconds RetCode: 0 Status: OK PackageFile: GenomicInteractions_1.43.0.tgz PackageFileSize: 4.009 MiB