Package: GenomicInteractionNodes Version: 1.13.0 Command: /home/biocbuild/R/R/bin/R CMD check --install=check:GenomicInteractionNodes.install-out.txt --library=/home/biocbuild/R/R/site-library --no-vignettes --timings GenomicInteractionNodes_1.13.0.tar.gz StartedAt: 2025-07-08 06:59:59 -0000 (Tue, 08 Jul 2025) EndedAt: 2025-07-08 07:07:25 -0000 (Tue, 08 Jul 2025) EllapsedTime: 446.2 seconds RetCode: 0 Status: OK CheckDir: GenomicInteractionNodes.Rcheck Warnings: 0