Package: GenomicInteractionNodes Version: 1.13.0 Command: /home/biocbuild/R/R/bin/R CMD build --keep-empty-dirs --no-resave-data GenomicInteractionNodes StartedAt: 2025-07-07 23:43:03 -0000 (Mon, 07 Jul 2025) EndedAt: 2025-07-07 23:44:58 -0000 (Mon, 07 Jul 2025) EllapsedTime: 115.1 seconds RetCode: 0 Status: OK PackageFile: GenomicInteractionNodes_1.13.0.tar.gz PackageFileSize: 274.5 KiB