Package: GenomicFeatures Version: 1.61.4 Command: /home/biocbuild/R/R/bin/R CMD build --keep-empty-dirs --no-resave-data GenomicFeatures StartedAt: 2025-06-30 23:50:21 -0000 (Mon, 30 Jun 2025) EndedAt: 2025-06-30 23:51:56 -0000 (Mon, 30 Jun 2025) EllapsedTime: 95.0 seconds RetCode: 0 Status: OK PackageFile: GenomicFeatures_1.61.4.tar.gz PackageFileSize: 579.1 KiB