Package: GenomicFeatures Version: 1.61.4 Command: /Library/Frameworks/R.framework/Resources/bin/R CMD check --install=check:GenomicFeatures.install-out.txt --library=/Library/Frameworks/R.framework/Resources/library --no-vignettes --timings GenomicFeatures_1.61.4.tar.gz StartedAt: 2025-07-21 19:26:05 -0400 (Mon, 21 Jul 2025) EndedAt: 2025-07-21 19:29:15 -0400 (Mon, 21 Jul 2025) EllapsedTime: 190.2 seconds RetCode: 0 Status: OK CheckDir: GenomicFeatures.Rcheck Warnings: 0