Package: GenomicDistributions Version: 1.17.1 Command: F:\biocbuild\bbs-3.22-bioc\R\bin\R.exe CMD INSTALL GenomicDistributions StartedAt: 2025-06-29 15:52:22 -0400 (Sun, 29 Jun 2025) EndedAt: 2025-06-29 15:57:07 -0400 (Sun, 29 Jun 2025) EllapsedTime: 284.1 seconds RetCode: 0 Status: OK