Package: GenomicDistributions Version: 1.17.1 Command: chmod a+r GenomicDistributions -R && F:\biocbuild\bbs-3.22-bioc\R\bin\R.exe CMD build --keep-empty-dirs --no-resave-data GenomicDistributions StartedAt: 2025-06-29 19:16:28 -0400 (Sun, 29 Jun 2025) EndedAt: 2025-06-29 19:19:02 -0400 (Sun, 29 Jun 2025) EllapsedTime: 153.9 seconds RetCode: 0 Status: OK PackageFile: GenomicDistributions_1.17.1.tar.gz PackageFileSize: 4.979 MiB