Package: GenomicDistributions Version: 1.17.1 Command: /Library/Frameworks/R.framework/Resources/bin/R CMD check --install=check:GenomicDistributions.install-out.txt --library=/Library/Frameworks/R.framework/Resources/library --no-vignettes --timings GenomicDistributions_1.17.1.tar.gz StartedAt: 2025-06-29 19:24:29 -0400 (Sun, 29 Jun 2025) EndedAt: 2025-06-29 19:25:31 -0400 (Sun, 29 Jun 2025) EllapsedTime: 62.7 seconds RetCode: 0 Status: OK CheckDir: GenomicDistributions.Rcheck Warnings: 0