Package: GenomicDistributions Version: 1.17.1 Command: /Library/Frameworks/R.framework/Resources/bin/R CMD build --keep-empty-dirs --no-resave-data GenomicDistributions StartedAt: 2025-06-29 16:24:43 -0400 (Sun, 29 Jun 2025) EndedAt: 2025-06-29 16:25:09 -0400 (Sun, 29 Jun 2025) EllapsedTime: 26.3 seconds RetCode: 0 Status: OK PackageFile: GenomicDistributions_1.17.1.tar.gz PackageFileSize: 5.953 MiB