Package: GenomicDistributions Version: 1.17.1 Command: rm -rf GenomicDistributions.buildbin-libdir && mkdir GenomicDistributions.buildbin-libdir && /Users/biocbuild/BBS/utils/build-universal.sh GenomicDistributions_1.17.1.tar.gz /Library/Frameworks/R.framework/Resources/bin/R GenomicDistributions.buildbin-libdir StartedAt: 2025-06-29 22:19:25 -0400 (Sun, 29 Jun 2025) EndedAt: 2025-06-29 22:19:33 -0400 (Sun, 29 Jun 2025) EllapsedTime: 7.2 seconds RetCode: 0 Status: OK PackageFile: GenomicDistributions_1.17.1.tgz PackageFileSize: 5.656 MiB