Package: GenomeInfoDb Version: 1.45.6 Command: /home/biocbuild/R/R/bin/R CMD INSTALL GenomeInfoDb StartedAt: 2025-06-30 20:30:28 -0000 (Mon, 30 Jun 2025) EndedAt: 2025-06-30 20:30:41 -0000 (Mon, 30 Jun 2025) EllapsedTime: 13.5 seconds RetCode: 0 Status: OK