Package: GenomeInfoDb Version: 1.45.6 Command: /home/biocbuild/R/R/bin/R CMD build --keep-empty-dirs --no-resave-data GenomeInfoDb StartedAt: 2025-06-30 23:49:46 -0000 (Mon, 30 Jun 2025) EndedAt: 2025-06-30 23:50:21 -0000 (Mon, 30 Jun 2025) EllapsedTime: 35.0 seconds RetCode: 0 Status: OK PackageFile: GenomeInfoDb_1.45.6.tar.gz PackageFileSize: 3.488 MiB