Package: GenomeInfoDb Version: 1.45.7 Command: F:\biocbuild\bbs-3.22-bioc\R\bin\R.exe CMD INSTALL GenomeInfoDb StartedAt: 2025-07-11 15:29:51 -0400 (Fri, 11 Jul 2025) EndedAt: 2025-07-11 15:31:46 -0400 (Fri, 11 Jul 2025) EllapsedTime: 115.4 seconds RetCode: 0 Status: OK