Package: GenomeInfoDb Version: 1.45.7 Command: F:\biocbuild\bbs-3.22-bioc\R\bin\R.exe CMD check --no-multiarch --install=check:GenomeInfoDb.install-out.txt --library=F:\biocbuild\bbs-3.22-bioc\R\library --no-vignettes --timings GenomeInfoDb_1.45.7.tar.gz StartedAt: 2025-07-12 02:15:47 -0400 (Sat, 12 Jul 2025) EndedAt: 2025-07-12 02:20:45 -0400 (Sat, 12 Jul 2025) EllapsedTime: 297.5 seconds RetCode: 1 Status: ERROR CheckDir: GenomeInfoDb.Rcheck Warnings: NA