Package: GenomeInfoDb Version: 1.45.7 Command: chmod a+r GenomeInfoDb -R && F:\biocbuild\bbs-3.22-bioc\R\bin\R.exe CMD build --keep-empty-dirs --no-resave-data GenomeInfoDb StartedAt: 2025-07-11 19:15:06 -0400 (Fri, 11 Jul 2025) EndedAt: 2025-07-11 19:16:01 -0400 (Fri, 11 Jul 2025) EllapsedTime: 55.3 seconds RetCode: 0 Status: OK PackageFile: GenomeInfoDb_1.45.7.tar.gz PackageFileSize: 3.474 MiB