Package: GenomeInfoDb Version: 1.45.7 Command: /Library/Frameworks/R.framework/Resources/bin/R CMD INSTALL GenomeInfoDb StartedAt: 2025-07-15 15:27:59 -0400 (Tue, 15 Jul 2025) EndedAt: 2025-07-15 15:28:12 -0400 (Tue, 15 Jul 2025) EllapsedTime: 12.8 seconds RetCode: 0 Status: OK