Package: GenomeInfoDb Version: 1.45.7 Command: /Library/Frameworks/R.framework/Resources/bin/R CMD check --install=check:GenomeInfoDb.install-out.txt --library=/Library/Frameworks/R.framework/Resources/library --no-vignettes --timings GenomeInfoDb_1.45.7.tar.gz StartedAt: 2025-07-17 20:50:24 -0400 (Thu, 17 Jul 2025) EndedAt: 2025-07-17 20:54:57 -0400 (Thu, 17 Jul 2025) EllapsedTime: 272.8 seconds RetCode: 1 Status: ERROR CheckDir: GenomeInfoDb.Rcheck Warnings: NA