Package: GenomeInfoDb Version: 1.45.7 Command: /Library/Frameworks/R.framework/Resources/bin/R CMD build --keep-empty-dirs --no-resave-data GenomeInfoDb StartedAt: 2025-07-15 17:10:25 -0400 (Tue, 15 Jul 2025) EndedAt: 2025-07-15 17:11:02 -0400 (Tue, 15 Jul 2025) EllapsedTime: 37.7 seconds RetCode: 0 Status: OK PackageFile: GenomeInfoDb_1.45.7.tar.gz PackageFileSize: 3.473 MiB