Package: GenomAutomorphism Version: 1.11.0 Command: F:\biocbuild\bbs-3.22-bioc\R\bin\R.exe CMD INSTALL GenomAutomorphism StartedAt: 2025-07-20 17:05:34 -0400 (Sun, 20 Jul 2025) EndedAt: 2025-07-20 17:08:17 -0400 (Sun, 20 Jul 2025) EllapsedTime: 162.8 seconds RetCode: 0 Status: OK