Package: GenomAutomorphism Version: 1.11.0 Command: chmod a+r GenomAutomorphism -R && F:\biocbuild\bbs-3.22-bioc\R\bin\R.exe CMD build --keep-empty-dirs --no-resave-data GenomAutomorphism StartedAt: 2025-07-20 19:16:35 -0400 (Sun, 20 Jul 2025) EndedAt: 2025-07-20 19:19:02 -0400 (Sun, 20 Jul 2025) EllapsedTime: 147.2 seconds RetCode: 0 Status: OK PackageFile: GenomAutomorphism_1.11.0.tar.gz PackageFileSize: 1.153 MiB