Package: GenomAutomorphism Version: 1.11.0 Command: /Library/Frameworks/R.framework/Resources/bin/R CMD check --install=check:GenomAutomorphism.install-out.txt --library=/Library/Frameworks/R.framework/Resources/library --no-vignettes --timings GenomAutomorphism_1.11.0.tar.gz StartedAt: 2025-07-01 19:22:58 -0400 (Tue, 01 Jul 2025) EndedAt: 2025-07-01 19:25:16 -0400 (Tue, 01 Jul 2025) EllapsedTime: 137.6 seconds RetCode: 0 Status: OK CheckDir: GenomAutomorphism.Rcheck Warnings: 0