Package: GenomAutomorphism Version: 1.11.0 Command: /Library/Frameworks/R.framework/Resources/bin/R CMD build --keep-empty-dirs --no-resave-data GenomAutomorphism StartedAt: 2025-07-01 16:23:09 -0400 (Tue, 01 Jul 2025) EndedAt: 2025-07-01 16:23:45 -0400 (Tue, 01 Jul 2025) EllapsedTime: 36.4 seconds RetCode: 0 Status: OK PackageFile: GenomAutomorphism_1.11.0.tar.gz PackageFileSize: 1.366 MiB