Package: GenomAutomorphism Version: 1.11.0 Command: rm -rf GenomAutomorphism.buildbin-libdir && mkdir GenomAutomorphism.buildbin-libdir && /Users/biocbuild/BBS/utils/build-universal.sh GenomAutomorphism_1.11.0.tar.gz /Library/Frameworks/R.framework/Resources/bin/R GenomAutomorphism.buildbin-libdir StartedAt: 2025-07-01 22:20:11 -0400 (Tue, 01 Jul 2025) EndedAt: 2025-07-01 22:20:21 -0400 (Tue, 01 Jul 2025) EllapsedTime: 10.2 seconds RetCode: 0 Status: OK PackageFile: GenomAutomorphism_1.11.0.tgz PackageFileSize: 2.041 MiB