Package: GeneticsPed Version: 1.71.0 Command: /home/biocbuild/R/R/bin/R CMD build --keep-empty-dirs --no-resave-data GeneticsPed StartedAt: 2025-07-14 23:47:37 -0000 (Mon, 14 Jul 2025) EndedAt: 2025-07-14 23:48:06 -0000 (Mon, 14 Jul 2025) EllapsedTime: 29.0 seconds RetCode: 0 Status: OK PackageFile: GeneticsPed_1.71.0.tar.gz PackageFileSize: 647.1 KiB