Package: GeneticsPed Version: 1.71.0 Command: F:\biocbuild\bbs-3.22-bioc\R\bin\R.exe CMD INSTALL GeneticsPed StartedAt: 2025-07-24 15:31:03 -0400 (Thu, 24 Jul 2025) EndedAt: 2025-07-24 15:32:01 -0400 (Thu, 24 Jul 2025) EllapsedTime: 58.4 seconds RetCode: 0 Status: OK