Package: GeneticsPed Version: 1.71.0 Command: chmod a+r GeneticsPed -R && F:\biocbuild\bbs-3.22-bioc\R\bin\R.exe CMD build --keep-empty-dirs --no-resave-data GeneticsPed StartedAt: 2025-07-24 19:28:30 -0400 (Thu, 24 Jul 2025) EndedAt: 2025-07-24 19:29:24 -0400 (Thu, 24 Jul 2025) EllapsedTime: 53.7 seconds RetCode: 0 Status: OK PackageFile: GeneticsPed_1.71.0.tar.gz PackageFileSize: 356.9 KiB