Package: GeneticsPed Version: 1.71.0 Command: /home/biocbuild/bbs-3.22-bioc/R/bin/R CMD check --install=check:GeneticsPed.install-out.txt --library=/home/biocbuild/bbs-3.22-bioc/R/site-library --timings GeneticsPed_1.71.0.tar.gz StartedAt: 2025-07-15 22:31:40 -0400 (Tue, 15 Jul 2025) EndedAt: 2025-07-15 22:32:12 -0400 (Tue, 15 Jul 2025) EllapsedTime: 32.0 seconds RetCode: 0 Status: WARNINGS CheckDir: GeneticsPed.Rcheck Warnings: 1