Package: GeneTonic Version: 3.3.2 Command: /home/biocbuild/R/R/bin/R CMD INSTALL GeneTonic StartedAt: 2025-07-07 21:06:45 -0000 (Mon, 07 Jul 2025) EndedAt: 2025-07-07 21:07:52 -0000 (Mon, 07 Jul 2025) EllapsedTime: 67.0 seconds RetCode: 0 Status: OK