Package: GeneTonic Version: 3.3.2 Command: /home/biocbuild/R/R/bin/R CMD check --install=check:GeneTonic.install-out.txt --library=/home/biocbuild/R/R/site-library --no-vignettes --timings GeneTonic_3.3.2.tar.gz StartedAt: 2025-09-12 07:46:56 -0000 (Fri, 12 Sep 2025) EndedAt: 2025-09-12 08:00:05 -0000 (Fri, 12 Sep 2025) EllapsedTime: 788.6 seconds RetCode: 1 Status: ERROR CheckDir: GeneTonic.Rcheck Warnings: NA