Package: GeneTonic Version: 3.3.2 Command: chmod a+r GeneTonic -R && F:\biocbuild\bbs-3.22-bioc\R\bin\R.exe CMD build --keep-empty-dirs --no-resave-data GeneTonic StartedAt: 2025-07-07 19:16:17 -0400 (Mon, 07 Jul 2025) EndedAt: 2025-07-07 19:19:18 -0400 (Mon, 07 Jul 2025) EllapsedTime: 180.8 seconds RetCode: 0 Status: OK PackageFile: GeneTonic_3.3.2.tar.gz PackageFileSize: 7.548 MiB