Package: GeneTonic Version: 3.3.2 Command: /home/biocbuild/bbs-3.22-bioc/R/bin/R CMD INSTALL GeneTonic StartedAt: 2025-07-07 15:47:50 -0400 (Mon, 07 Jul 2025) EndedAt: 2025-07-07 15:48:46 -0400 (Mon, 07 Jul 2025) EllapsedTime: 55.4 seconds RetCode: 0 Status: OK