Package: GeneTonic Version: 3.3.2 Command: /home/biocbuild/bbs-3.22-bioc/R/bin/R CMD build --keep-empty-dirs --no-resave-data --md5 GeneTonic StartedAt: 2025-07-07 17:22:01 -0400 (Mon, 07 Jul 2025) EndedAt: 2025-07-07 17:23:51 -0400 (Mon, 07 Jul 2025) EllapsedTime: 110.1 seconds RetCode: 0 Status: OK PackageFile: GeneTonic_3.3.2.tar.gz PackageFileSize: 9.585 MiB