Package: GeneTonic Version: 3.3.2 Command: /Library/Frameworks/R.framework/Resources/bin/R CMD INSTALL GeneTonic StartedAt: 2025-07-07 15:43:05 -0400 (Mon, 07 Jul 2025) EndedAt: 2025-07-07 15:44:14 -0400 (Mon, 07 Jul 2025) EllapsedTime: 69.5 seconds RetCode: 0 Status: OK