Package: GeneTonic Version: 3.3.2 Command: /Library/Frameworks/R.framework/Resources/bin/R CMD check --install=check:GeneTonic.install-out.txt --library=/Library/Frameworks/R.framework/Resources/library --no-vignettes --timings GeneTonic_3.3.2.tar.gz StartedAt: 2025-07-07 20:53:07 -0400 (Mon, 07 Jul 2025) EndedAt: 2025-07-07 21:05:22 -0400 (Mon, 07 Jul 2025) EllapsedTime: 734.9 seconds RetCode: 0 Status: OK CheckDir: GeneTonic.Rcheck Warnings: 0