Package: GeneTonic Version: 3.3.2 Command: /Library/Frameworks/R.framework/Resources/bin/R CMD check --install=check:GeneTonic.install-out.txt --library=/Library/Frameworks/R.framework/Resources/library --no-vignettes --timings GeneTonic_3.3.2.tar.gz StartedAt: 2025-07-07 19:21:36 -0400 (Mon, 07 Jul 2025) EndedAt: 2025-07-07 19:25:57 -0400 (Mon, 07 Jul 2025) EllapsedTime: 261.0 seconds RetCode: 0 Status: OK CheckDir: GeneTonic.Rcheck Warnings: 0