Package: GeneTonic Version: 3.3.2 Command: /Library/Frameworks/R.framework/Resources/bin/R CMD build --keep-empty-dirs --no-resave-data GeneTonic StartedAt: 2025-07-07 16:21:53 -0400 (Mon, 07 Jul 2025) EndedAt: 2025-07-07 16:22:39 -0400 (Mon, 07 Jul 2025) EllapsedTime: 46.5 seconds RetCode: 0 Status: OK PackageFile: GeneTonic_3.3.2.tar.gz PackageFileSize: 9.875 MiB