Package: GeneTonic Version: 3.3.2 Maintainer: Federico Marini MaintainerEmail: marinif at uni-mainz.de git_url: https://git.bioconductor.org/packages/GeneTonic git_branch: devel git_last_commit: 666ed57 git_last_commit_date: 2025-05-09 07:17:35 -0400 (Fri, 09 May 2025)