Package: GeneSelectMMD Version: 2.53.0 Command: /home/biocbuild/R/R/bin/R CMD build --keep-empty-dirs --no-resave-data GeneSelectMMD StartedAt: 2025-07-11 01:00:49 -0000 (Fri, 11 Jul 2025) EndedAt: 2025-07-11 01:01:04 -0000 (Fri, 11 Jul 2025) EllapsedTime: 15.0 seconds RetCode: 0 Status: OK PackageFile: GeneSelectMMD_2.53.0.tar.gz PackageFileSize: 439.5 KiB