Package: GeneRegionScan Version: 1.65.0 Command: rm -rf GeneRegionScan.buildbin-libdir && mkdir GeneRegionScan.buildbin-libdir && F:\biocbuild\bbs-3.22-bioc\R\bin\R.exe CMD INSTALL --build --library=GeneRegionScan.buildbin-libdir GeneRegionScan_1.65.0.tar.gz StartedAt: 2025-08-15 10:20:25 -0400 (Fri, 15 Aug 2025) EndedAt: 2025-08-15 10:21:18 -0400 (Fri, 15 Aug 2025) EllapsedTime: 53.5 seconds RetCode: 0 Status: OK PackageFile: GeneRegionScan_1.65.0.zip PackageFileSize: 7.57 MiB