Package: GeneOverlap Version: 1.45.0 Command: /home/biocbuild/bbs-3.22-bioc/R/bin/R CMD INSTALL GeneOverlap StartedAt: 2025-07-01 15:04:15 -0400 (Tue, 01 Jul 2025) EndedAt: 2025-07-01 15:04:36 -0400 (Tue, 01 Jul 2025) EllapsedTime: 20.3 seconds RetCode: 0 Status: OK