Package: GeneOverlap Version: 1.45.0 Command: /home/biocbuild/bbs-3.22-bioc/R/bin/R CMD build --keep-empty-dirs --no-resave-data --md5 GeneOverlap StartedAt: 2025-07-01 17:19:03 -0400 (Tue, 01 Jul 2025) EndedAt: 2025-07-01 17:19:11 -0400 (Tue, 01 Jul 2025) EllapsedTime: 8.0 seconds RetCode: 0 Status: OK PackageFile: GeneOverlap_1.45.0.tar.gz PackageFileSize: 360.4 KiB