Package: GeneOverlap Version: 1.45.0 Command: rm -rf GeneOverlap.buildbin-libdir && mkdir GeneOverlap.buildbin-libdir && /Users/biocbuild/BBS/utils/build-universal.sh GeneOverlap_1.45.0.tar.gz /Library/Frameworks/R.framework/Resources/bin/R GeneOverlap.buildbin-libdir StartedAt: 2025-07-15 00:58:23 -0400 (Tue, 15 Jul 2025) EndedAt: 2025-07-15 00:58:30 -0400 (Tue, 15 Jul 2025) EllapsedTime: 7.0 seconds RetCode: 0 Status: OK PackageFile: GeneOverlap_1.45.0.tgz PackageFileSize: 537.2 KiB