Package: GeneNetworkBuilder Version: 1.51.0 Command: /Library/Frameworks/R.framework/Resources/bin/R CMD INSTALL GeneNetworkBuilder StartedAt: 2025-07-01 15:08:55 -0400 (Tue, 01 Jul 2025) EndedAt: 2025-07-01 15:09:01 -0400 (Tue, 01 Jul 2025) EllapsedTime: 6.4 seconds RetCode: 0 Status: OK