Package: GeneNetworkBuilder Version: 1.51.0 Command: /Library/Frameworks/R.framework/Resources/bin/R CMD build --keep-empty-dirs --no-resave-data GeneNetworkBuilder StartedAt: 2025-07-01 16:22:33 -0400 (Tue, 01 Jul 2025) EndedAt: 2025-07-01 16:26:09 -0400 (Tue, 01 Jul 2025) EllapsedTime: 215.3 seconds RetCode: 0 Status: OK PackageFile: GeneNetworkBuilder_1.51.0.tar.gz PackageFileSize: 7.391 MiB