Package: GeneNetworkBuilder Version: 1.51.0 Command: rm -rf GeneNetworkBuilder.buildbin-libdir && mkdir GeneNetworkBuilder.buildbin-libdir && /Users/biocbuild/BBS/utils/build-universal.sh GeneNetworkBuilder_1.51.0.tar.gz /Library/Frameworks/R.framework/Resources/bin/R GeneNetworkBuilder.buildbin-libdir StartedAt: 2025-07-01 22:20:02 -0400 (Tue, 01 Jul 2025) EndedAt: 2025-07-01 22:20:10 -0400 (Tue, 01 Jul 2025) EllapsedTime: 8.2 seconds RetCode: 0 Status: OK PackageFile: GeneNetworkBuilder_1.51.0.tgz PackageFileSize: 7.274 MiB