Package: GeneMeta Version: 1.81.0 Command: /home/biocbuild/R/R/bin/R CMD check --install=check:GeneMeta.install-out.txt --library=/home/biocbuild/R/R/site-library --no-vignettes --timings GeneMeta_1.81.0.tar.gz StartedAt: 2025-07-22 07:33:25 -0000 (Tue, 22 Jul 2025) EndedAt: 2025-07-22 07:34:51 -0000 (Tue, 22 Jul 2025) EllapsedTime: 86.1 seconds RetCode: 0 Status: OK CheckDir: GeneMeta.Rcheck Warnings: 0